Package: simpleSingleCell Version: 1.35.0 Command: /Library/Frameworks/R.framework/Resources/bin/R CMD INSTALL simpleSingleCell StartedAt: 2025-11-18 13:00:44 -0500 (Tue, 18 Nov 2025) EndedAt: 2025-11-18 13:00:48 -0500 (Tue, 18 Nov 2025) EllapsedTime: 4.6 seconds RetCode: 0 Status: OK