Package: simpleSingleCell Version: 1.35.0 Command: /Library/Frameworks/R.framework/Resources/bin/R CMD build --keep-empty-dirs --no-resave-data simpleSingleCell StartedAt: 2025-11-18 13:10:12 -0500 (Tue, 18 Nov 2025) EndedAt: 2025-11-18 13:10:51 -0500 (Tue, 18 Nov 2025) EllapsedTime: 38.8 seconds RetCode: 0 Status: OK PackageFile: simpleSingleCell_1.35.0.tar.gz PackageFileSize: 2.741 MiB