Package: sequencing Version: 1.35.0 Command: /home/biocbuild/bbs-3.23-bioc/R/bin/R CMD build --keep-empty-dirs --no-resave-data sequencing StartedAt: 2025-11-18 13:10:40 -0500 (Tue, 18 Nov 2025) EndedAt: 2025-11-18 13:11:51 -0500 (Tue, 18 Nov 2025) EllapsedTime: 70.1 seconds RetCode: 0 Status: OK PackageFile: sequencing_1.35.0.tar.gz PackageFileSize: 403.5 KiB