Package: recountWorkflow Version: 1.35.0 Command: /Library/Frameworks/R.framework/Resources/bin/R CMD INSTALL recountWorkflow StartedAt: 2025-11-18 13:01:41 -0500 (Tue, 18 Nov 2025) EndedAt: 2025-11-18 13:02:27 -0500 (Tue, 18 Nov 2025) EllapsedTime: 45.4 seconds RetCode: 0 Status: OK