Package: methylationArrayAnalysis Version: 1.35.0 Command: /home/biocbuild/bbs-3.23-bioc/R/bin/R CMD INSTALL methylationArrayAnalysis StartedAt: 2025-11-18 13:00:49 -0500 (Tue, 18 Nov 2025) EndedAt: 2025-11-18 13:04:34 -0500 (Tue, 18 Nov 2025) EllapsedTime: 225.5 seconds RetCode: 0 Status: OK