Package: methylationArrayAnalysis Version: 1.35.0 Command: /home/biocbuild/bbs-3.23-bioc/R/bin/R CMD build --keep-empty-dirs --no-resave-data methylationArrayAnalysis StartedAt: 2025-11-18 13:06:00 -0500 (Tue, 18 Nov 2025) EndedAt: 2025-11-18 13:15:19 -0500 (Tue, 18 Nov 2025) EllapsedTime: 558.2 seconds RetCode: 1 Status: ERROR PackageFile: None PackageFileSize: NA