Package: maEndToEnd Version: 2.31.0 Command: /Library/Frameworks/R.framework/Resources/bin/R CMD INSTALL maEndToEnd StartedAt: 2025-11-18 13:00:55 -0500 (Tue, 18 Nov 2025) EndedAt: 2025-11-18 13:01:21 -0500 (Tue, 18 Nov 2025) EllapsedTime: 26.4 seconds RetCode: 0 Status: OK