Workflows build report for BioC 3.23

This page was generated on 2025-11-18 16:30 -0500 (Tue, 18 Nov 2025).

Approx. Package Snapshot Date/Time (git pull): 2025-11-18 12:45 -0500 (Tue, 18 Nov 2025)
See this page for all the Bioconductor builds and their schedule.

HostnameOSArch (*)R versionInstalled pkgs
nebbiolo1Linux (Ubuntu 24.04.3 LTS)x86_64R Under development (unstable) (2025-10-20 r88955) -- "Unsuffered Consequences" 4826
lconwaymacOS 12.7.6 Montereyx86_64R Under development (unstable) (2025-10-21 r88958) -- "Unsuffered Consequences" 4598
Click on any hostname to see more info about the system (e.g. compilers)      (*) as reported by 'uname -p', except on Windows and Mac OS X

Package status is indicated by one of the following glyphs
  TIMEOUT  
INSTALL or BUILD of package took more than 40 or 180 minutes, respectively
  ERROR  
Bad DESCRIPTION file, or INSTALL or BUILD of package failed
  OK  
INSTALL or BUILD of package went OK
  NA  
INSTALL or BUILD result is not available because of an anomaly in the Build System
Click on any glyph in the report below to access the detailed report.
Package propagation status is indicated by one of the following LEDs
YES YES: Package was propagated because it didn't previously exist or version was bumped
NO NO: Package was not propagated because of a problem (impossible dependencies, or version lower than what is already propagated)
UNNEEDED UNNEEDED: Package was not propagated because it is already in the repository with this version. A version bump is required in order to propagate it

A crossed-out package name indicates that the package is deprecated


QUICK STATSOS / ArchINSTALLBUILD
nebbiolo1Linux (Ubuntu 24.04.3 LTS) / x86_64
0226
0622
lconwaymacOS 12.7.6 Monterey / x86_64
0225
0621
Package 1/28HostnameOS / ArchINSTALLBUILD
annotation 1.35.0  (landing page)
Bioconductor Package Maintainer
git_last_commit: e91a6aa
git_last_commit_date: 2025-10-29 09:46:25 -0500
nebbiolo1Linux (Ubuntu 24.04.3 LTS) / x86_64  OK    OK  NO, package depends on 'Organism.dplyr' which is not available
lconwaymacOS 12.7.6 Monterey / x86_64  OK    OK  
Package 2/28HostnameOS / ArchINSTALLBUILD
arrays 1.37.0  (landing page)
Bioconductor Package Maintainer
git_last_commit: b494e06
git_last_commit_date: 2025-10-29 09:46:28 -0500
nebbiolo1Linux (Ubuntu 24.04.3 LTS) / x86_64  OK    OK  UNNEEDED, same version is already published
lconwaymacOS 12.7.6 Monterey / x86_64  OK    OK  
Package 3/28HostnameOS / ArchINSTALLBUILD
BP4RNAseq 1.21.0  (landing page)
Shanwen Sun
git_last_commit: b32db34
git_last_commit_date: 2025-10-29 09:47:30 -0500
nebbiolo1Linux (Ubuntu 24.04.3 LTS) / x86_64  OK    OK  UNNEEDED, same version is already published
lconwaymacOS 12.7.6 Monterey / x86_64  OK    OK  
Package 4/28HostnameOS / ArchINSTALLBUILD
CAGEWorkflow 1.27.0  (landing page)
Malte Thodberg
git_last_commit: 234feba
git_last_commit_date: 2025-10-29 09:47:25 -0500
nebbiolo1Linux (Ubuntu 24.04.3 LTS) / x86_64  OK    OK  UNNEEDED, same version is already published
lconwaymacOS 12.7.6 Monterey / x86_64  OK    OK  
Package 5/28HostnameOS / ArchINSTALLBUILD
chipseqDB 1.35.0  (landing page)
Aaron Lun
git_last_commit: 2daff8e
git_last_commit_date: 2025-10-29 09:46:30 -0500
nebbiolo1Linux (Ubuntu 24.04.3 LTS) / x86_64  OK    OK  UNNEEDED, same version is already published
lconwaymacOS 12.7.6 Monterey / x86_64  OK    OK  
Package 6/28HostnameOS / ArchINSTALLBUILD
csawUsersGuide 1.27.0  (landing page)
Aaron Lun
git_last_commit: 88748f9
git_last_commit_date: 2025-10-29 09:47:19 -0500
nebbiolo1Linux (Ubuntu 24.04.3 LTS) / x86_64  OK    OK  UNNEEDED, same version is already published
lconwaymacOS 12.7.6 Monterey / x86_64  OK    OK  
Package 7/28HostnameOS / ArchINSTALLBUILD
cytofWorkflow 1.35.0  (landing page)
Mark D. Robinson
git_last_commit: 020485a
git_last_commit_date: 2025-10-29 09:46:33 -0500
nebbiolo1Linux (Ubuntu 24.04.3 LTS) / x86_64  OK    OK  UNNEEDED, same version is already published
lconwaymacOS 12.7.6 Monterey / x86_64  OK    OK  
Package 8/28HostnameOS / ArchINSTALLBUILD
EGSEA123 1.35.0  (landing page)
Matthew Ritchie
git_last_commit: cb38283
git_last_commit_date: 2025-10-29 09:46:36 -0500
nebbiolo1Linux (Ubuntu 24.04.3 LTS) / x86_64  OK    OK  UNNEEDED, same version is already published
lconwaymacOS 12.7.6 Monterey / x86_64  OK    OK  
Package 9/28HostnameOS / ArchINSTALLBUILD
ExpHunterSuite 1.19.0  (landing page)
James Perkins
git_last_commit: 396a93e
git_last_commit_date: 2025-10-29 09:47:33 -0500
nebbiolo1Linux (Ubuntu 24.04.3 LTS) / x86_64  ERROR    ERROR  
lconwaymacOS 12.7.6 Monterey / x86_64  ERROR    ERROR  
Package 10/28HostnameOS / ArchINSTALLBUILD
ExpressionNormalizationWorkflow 1.37.0  (landing page)
Karthikeyan Murugesan
git_last_commit: bea5c91
git_last_commit_date: 2025-10-29 09:46:38 -0500
nebbiolo1Linux (Ubuntu 24.04.3 LTS) / x86_64  OK    OK  UNNEEDED, same version is already published
lconwaymacOS 12.7.6 Monterey / x86_64  OK    OK  
Package 11/28HostnameOS / ArchINSTALLBUILD
fluentGenomics 1.23.0  (landing page)
Stuart Lee
git_last_commit: 4891059
git_last_commit_date: 2025-10-29 09:47:28 -0500
nebbiolo1Linux (Ubuntu 24.04.3 LTS) / x86_64  OK    ERROR  
lconwaymacOS 12.7.6 Monterey / x86_64  OK    ERROR  
Package 12/28HostnameOS / ArchINSTALLBUILD
generegulation 1.35.0  (landing page)
Bioconductor Package Maintainer
git_last_commit: 59637ca
git_last_commit_date: 2025-10-29 09:46:41 -0500
nebbiolo1Linux (Ubuntu 24.04.3 LTS) / x86_64  OK    OK  UNNEEDED, same version is already published
lconwaymacOS 12.7.6 Monterey / x86_64  OK    OK  
Package 13/28HostnameOS / ArchINSTALLBUILD
GeoMxWorkflows 1.17.0  (landing page)
Maddy Griswold
git_last_commit: c01ff41
git_last_commit_date: 2025-10-29 09:47:36 -0500
nebbiolo1Linux (Ubuntu 24.04.3 LTS) / x86_64  OK    OK  UNNEEDED, same version is already published
lconwaymacOS 12.7.6 Monterey / x86_64  OK    OK  
Package 14/28HostnameOS / ArchINSTALLBUILD
highthroughputassays 1.35.0  (landing page)
Bioconductor Package Maintainer
git_last_commit: f4175fb
git_last_commit_date: 2025-10-29 09:46:44 -0500
nebbiolo1Linux (Ubuntu 24.04.3 LTS) / x86_64  OK    OK  UNNEEDED, same version is already published
lconwaymacOS 12.7.6 Monterey / x86_64... NOT SUPPORTED ...
Package 15/28HostnameOS / ArchINSTALLBUILD
liftOver 1.35.0  (landing page)
Bioconductor Package Maintainer
git_last_commit: 433b8c4
git_last_commit_date: 2025-10-29 09:46:46 -0500
nebbiolo1Linux (Ubuntu 24.04.3 LTS) / x86_64  OK    OK  UNNEEDED, same version is already published
lconwaymacOS 12.7.6 Monterey / x86_64  OK    OK  
Package 16/28HostnameOS / ArchINSTALLBUILD
maEndToEnd 2.31.0  (landing page)
Stefanie Reisenauer
git_last_commit: c3f03c4
git_last_commit_date: 2025-10-29 09:47:14 -0500
nebbiolo1Linux (Ubuntu 24.04.3 LTS) / x86_64  OK    ERROR  
lconwaymacOS 12.7.6 Monterey / x86_64  OK    ERROR  
Package 17/28HostnameOS / ArchINSTALLBUILD
methylationArrayAnalysis 1.35.0  (landing page)
Jovana Maksimovic
git_last_commit: 6b67c1f
git_last_commit_date: 2025-10-29 09:46:49 -0500
nebbiolo1Linux (Ubuntu 24.04.3 LTS) / x86_64  OK    ERROR  
lconwaymacOS 12.7.6 Monterey / x86_64  OK    ERROR  
Package 18/28HostnameOS / ArchINSTALLBUILD
recountWorkflow 1.35.0  (landing page)
Leonardo Collado-Torres
git_last_commit: 5dea0c6
git_last_commit_date: 2025-10-29 09:46:52 -0500
nebbiolo1Linux (Ubuntu 24.04.3 LTS) / x86_64  OK    OK  UNNEEDED, same version is already published
lconwaymacOS 12.7.6 Monterey / x86_64  OK    OK  
Package 19/28HostnameOS / ArchINSTALLBUILD
RNAseq123 1.35.0  (landing page)
Matthew Ritchie
git_last_commit: 87ef345
git_last_commit_date: 2025-10-29 09:46:55 -0500
nebbiolo1Linux (Ubuntu 24.04.3 LTS) / x86_64  OK    OK  UNNEEDED, same version is already published
lconwaymacOS 12.7.6 Monterey / x86_64  OK    OK  
Package 20/28HostnameOS / ArchINSTALLBUILD
rnaseqDTU 1.31.0  (landing page)
Michael Love
git_last_commit: 4ed699f
git_last_commit_date: 2025-10-29 09:47:17 -0500
nebbiolo1Linux (Ubuntu 24.04.3 LTS) / x86_64  OK    OK  UNNEEDED, same version is already published
lconwaymacOS 12.7.6 Monterey / x86_64  OK    OK  
Package 21/28HostnameOS / ArchINSTALLBUILD
rnaseqGene 1.35.0  (landing page)
Michael Love
git_last_commit: 22281dd
git_last_commit_date: 2025-10-29 09:46:57 -0500
nebbiolo1Linux (Ubuntu 24.04.3 LTS) / x86_64  OK    OK  UNNEEDED, same version is already published
lconwaymacOS 12.7.6 Monterey / x86_64  OK    OK  
Package 22/28HostnameOS / ArchINSTALLBUILD
RnaSeqGeneEdgeRQL 1.35.0  (landing page)
Yunshun Chen
git_last_commit: eefcd92
git_last_commit_date: 2025-10-29 09:47:00 -0500
nebbiolo1Linux (Ubuntu 24.04.3 LTS) / x86_64  OK    OK  UNNEEDED, same version is already published
lconwaymacOS 12.7.6 Monterey / x86_64  OK    OK  
Package 23/28HostnameOS / ArchINSTALLBUILD
seqpac 1.11.0  (landing page)
Alessandro Gozzo
git_last_commit: 094789d
git_last_commit_date: 2025-10-29 09:47:40 -0500
nebbiolo1Linux (Ubuntu 24.04.3 LTS) / x86_64  OK    OK  UNNEEDED, same version is already published
lconwaymacOS 12.7.6 Monterey / x86_64  OK    OK  
Package 24/28HostnameOS / ArchINSTALLBUILD
sequencing 1.35.0  (landing page)
Bioconductor Package Maintainer
git_last_commit: e55ccb5
git_last_commit_date: 2025-10-29 09:47:03 -0500
nebbiolo1Linux (Ubuntu 24.04.3 LTS) / x86_64  OK    OK  UNNEEDED, same version is already published
lconwaymacOS 12.7.6 Monterey / x86_64  OK    OK  
Package 25/28HostnameOS / ArchINSTALLBUILD
simpleSingleCell 1.35.0  (landing page)
Aaron Lun
git_last_commit: dfc6d92
git_last_commit_date: 2025-10-29 09:47:06 -0500
nebbiolo1Linux (Ubuntu 24.04.3 LTS) / x86_64  OK    OK  UNNEEDED, same version is already published
lconwaymacOS 12.7.6 Monterey / x86_64  OK    OK  
Package 26/28HostnameOS / ArchINSTALLBUILD
SingscoreAMLMutations 1.27.0  (landing page)
Dharmesh D. Bhuva
git_last_commit: df15a5d
git_last_commit_date: 2025-10-29 09:47:22 -0500
nebbiolo1Linux (Ubuntu 24.04.3 LTS) / x86_64  OK    ERROR  
lconwaymacOS 12.7.6 Monterey / x86_64  OK    ERROR  
Package 27/28HostnameOS / ArchINSTALLBUILD
TCGAWorkflow 1.35.0  (landing page)
Tiago Chedraoui Silva
git_last_commit: 2f0362b
git_last_commit_date: 2025-10-29 09:47:09 -0500
nebbiolo1Linux (Ubuntu 24.04.3 LTS) / x86_64  ERROR    ERROR  
lconwaymacOS 12.7.6 Monterey / x86_64  ERROR    ERROR  
Package 28/28HostnameOS / ArchINSTALLBUILD
variants 1.35.0  (landing page)
Bioconductor Package Maintainer
git_last_commit: a1dfe52
git_last_commit_date: 2025-10-29 09:47:11 -0500
nebbiolo1Linux (Ubuntu 24.04.3 LTS) / x86_64  OK    OK  UNNEEDED, same version is already published
lconwaymacOS 12.7.6 Monterey / x86_64  OK    OK