Package: highthroughputassays Version: 1.35.0 Command: /home/biocbuild/bbs-3.23-bioc/R/bin/R CMD build --keep-empty-dirs --no-resave-data highthroughputassays StartedAt: 2025-11-18 13:05:10 -0500 (Tue, 18 Nov 2025) EndedAt: 2025-11-18 13:05:39 -0500 (Tue, 18 Nov 2025) EllapsedTime: 29.0 seconds RetCode: 0 Status: OK PackageFile: highthroughputassays_1.35.0.tar.gz PackageFileSize: 514.7 KiB