Package: generegulation Version: 1.33.0 Command: /home/biocbuild/bbs-3.22-bioc/R/bin/R CMD build --keep-empty-dirs --no-resave-data generegulation StartedAt: 2025-10-07 13:04:51 -0400 (Tue, 07 Oct 2025) EndedAt: 2025-10-07 13:05:57 -0400 (Tue, 07 Oct 2025) EllapsedTime: 66.0 seconds RetCode: 0 Status: OK PackageFile: generegulation_1.33.0.tar.gz PackageFileSize: 1.288 MiB