Package: fluentGenomics Version: 1.23.0 Command: /home/biocbuild/bbs-3.23-bioc/R/bin/R CMD build --keep-empty-dirs --no-resave-data fluentGenomics StartedAt: 2025-11-18 13:04:50 -0500 (Tue, 18 Nov 2025) EndedAt: 2025-11-18 13:06:40 -0500 (Tue, 18 Nov 2025) EllapsedTime: 110.1 seconds RetCode: 1 Status: ERROR PackageFile: None PackageFileSize: NA