Package: cytofWorkflow Version: 1.33.0 Command: /home/biocbuild/bbs-3.22-bioc/R/bin/R CMD INSTALL cytofWorkflow StartedAt: 2025-09-30 13:00:18 -0400 (Tue, 30 Sep 2025) EndedAt: 2025-09-30 13:00:49 -0400 (Tue, 30 Sep 2025) EllapsedTime: 31.2 seconds RetCode: 0 Status: OK