Package: cytofWorkflow Version: 1.33.0 Command: /home/biocbuild/bbs-3.22-bioc/R/bin/R CMD build --keep-empty-dirs --no-resave-data cytofWorkflow StartedAt: 2025-09-30 13:04:52 -0400 (Tue, 30 Sep 2025) EndedAt: 2025-09-30 13:09:38 -0400 (Tue, 30 Sep 2025) EllapsedTime: 286.1 seconds RetCode: 0 Status: OK PackageFile: cytofWorkflow_1.33.0.tar.gz PackageFileSize: 6.576 MiB