Package: chipseqDB Version: 1.35.0 Command: /home/biocbuild/bbs-3.23-bioc/R/bin/R CMD build --keep-empty-dirs --no-resave-data chipseqDB StartedAt: 2025-11-18 13:04:45 -0500 (Tue, 18 Nov 2025) EndedAt: 2025-11-18 13:04:51 -0500 (Tue, 18 Nov 2025) EllapsedTime: 6.0 seconds RetCode: 0 Status: OK PackageFile: chipseqDB_1.35.0.tar.gz PackageFileSize: 1.119 MiB