Package: TCGAWorkflow Version: 1.35.0 Command: /home/biocbuild/bbs-3.23-bioc/R/bin/R CMD build --keep-empty-dirs --no-resave-data TCGAWorkflow StartedAt: 2025-11-18 13:11:15 -0500 (Tue, 18 Nov 2025) EndedAt: 2025-11-18 13:11:16 -0500 (Tue, 18 Nov 2025) EllapsedTime: 1.0 seconds RetCode: 1 Status: ERROR PackageFile: None PackageFileSize: NA