Package: TCGAWorkflow Version: 1.33.0 Command: /Library/Frameworks/R.framework/Resources/bin/R CMD INSTALL TCGAWorkflow StartedAt: 2025-09-30 13:00:47 -0400 (Tue, 30 Sep 2025) EndedAt: 2025-09-30 13:01:40 -0400 (Tue, 30 Sep 2025) EllapsedTime: 52.6 seconds RetCode: 0 Status: OK