Package: TCGAWorkflow Version: 1.33.0 Command: /Library/Frameworks/R.framework/Resources/bin/R CMD build --keep-empty-dirs --no-resave-data TCGAWorkflow StartedAt: 2025-09-30 13:10:20 -0400 (Tue, 30 Sep 2025) EndedAt: 2025-09-30 13:16:35 -0400 (Tue, 30 Sep 2025) EllapsedTime: 374.6 seconds RetCode: 1 Status: ERROR PackageFile: None PackageFileSize: NA