Package: SingscoreAMLMutations Version: 1.25.0 Command: /Library/Frameworks/R.framework/Resources/bin/R CMD build --keep-empty-dirs --no-resave-data SingscoreAMLMutations StartedAt: 2025-09-30 13:09:54 -0400 (Tue, 30 Sep 2025) EndedAt: 2025-09-30 13:14:52 -0400 (Tue, 30 Sep 2025) EllapsedTime: 297.9 seconds RetCode: 1 Status: ERROR PackageFile: None PackageFileSize: NA