Package: RnaSeqGeneEdgeRQL Version: 1.33.1 Command: /home/biocbuild/bbs-3.22-bioc/R/bin/R CMD INSTALL RnaSeqGeneEdgeRQL StartedAt: 2025-09-30 13:00:18 -0400 (Tue, 30 Sep 2025) EndedAt: 2025-09-30 13:00:28 -0400 (Tue, 30 Sep 2025) EllapsedTime: 10.1 seconds RetCode: 0 Status: OK