Package: RNAseq123 Version: 1.35.0 Command: /home/biocbuild/bbs-3.23-bioc/R/bin/R CMD INSTALL RNAseq123 StartedAt: 2025-11-18 13:01:06 -0500 (Tue, 18 Nov 2025) EndedAt: 2025-11-18 13:01:34 -0500 (Tue, 18 Nov 2025) EllapsedTime: 28.0 seconds RetCode: 0 Status: OK