Package: RNAseq123 Version: 1.35.0 Command: /home/biocbuild/bbs-3.23-bioc/R/bin/R CMD build --keep-empty-dirs --no-resave-data RNAseq123 StartedAt: 2025-11-18 13:06:40 -0500 (Tue, 18 Nov 2025) EndedAt: 2025-11-18 13:08:34 -0500 (Tue, 18 Nov 2025) EllapsedTime: 114.0 seconds RetCode: 0 Status: OK PackageFile: RNAseq123_1.35.0.tar.gz PackageFileSize: 6.923 MiB