Package: ExpHunterSuite Version: 1.19.0 Command: /Library/Frameworks/R.framework/Resources/bin/R CMD INSTALL ExpHunterSuite StartedAt: 2025-11-25 13:00:26 -0500 (Tue, 25 Nov 2025) EndedAt: 2025-11-25 13:00:48 -0500 (Tue, 25 Nov 2025) EllapsedTime: 21.8 seconds RetCode: 1 Status: ERROR