Package: CAGEWorkflow Version: 1.25.0 Command: /home/biocbuild/bbs-3.22-bioc/R/bin/R CMD INSTALL CAGEWorkflow StartedAt: 2025-10-07 13:00:34 -0400 (Tue, 07 Oct 2025) EndedAt: 2025-10-07 13:01:10 -0400 (Tue, 07 Oct 2025) EllapsedTime: 36.1 seconds RetCode: 0 Status: OK