Package: CAGEWorkflow Version: 1.25.0 Command: /home/biocbuild/bbs-3.22-bioc/R/bin/R CMD build --keep-empty-dirs --no-resave-data CAGEWorkflow StartedAt: 2025-10-07 13:04:45 -0400 (Tue, 07 Oct 2025) EndedAt: 2025-10-07 13:13:25 -0400 (Tue, 07 Oct 2025) EllapsedTime: 519.5 seconds RetCode: 0 Status: OK PackageFile: CAGEWorkflow_1.25.0.tar.gz PackageFileSize: 816.5 KiB