Package: BP4RNAseq Version: 1.19.0 Command: /home/biocbuild/bbs-3.22-bioc/R/bin/R CMD INSTALL BP4RNAseq StartedAt: 2025-09-30 13:00:18 -0400 (Tue, 30 Sep 2025) EndedAt: 2025-09-30 13:00:21 -0400 (Tue, 30 Sep 2025) EllapsedTime: 3.2 seconds RetCode: 0 Status: OK