Package: xcoredata Version: 1.15.0 Command: /home/biocbuild/bbs-3.23-bioc/R/bin/R CMD build --keep-empty-dirs --no-resave-data xcoredata StartedAt: 2025-11-13 11:49:24 -0500 (Thu, 13 Nov 2025) EndedAt: 2025-11-13 11:51:35 -0500 (Thu, 13 Nov 2025) EllapsedTime: 130.3 seconds RetCode: 0 Status: OK PackageFile: xcoredata_1.15.0.tar.gz PackageFileSize: 1.332 MiB