Package: tinesath1probe Version: 1.49.0 Command: /home/biocbuild/bbs-3.23-bioc/R/bin/R CMD INSTALL tinesath1probe StartedAt: 2025-11-18 10:56:48 -0500 (Tue, 18 Nov 2025) EndedAt: 2025-11-18 10:56:58 -0500 (Tue, 18 Nov 2025) EllapsedTime: 9.2 seconds RetCode: 0 Status: OK