Package: spqnData Version: 1.23.0 Command: /home/biocbuild/bbs-3.23-bioc/R/bin/R CMD build --keep-empty-dirs --no-resave-data spqnData StartedAt: 2025-11-20 11:45:03 -0500 (Thu, 20 Nov 2025) EndedAt: 2025-11-20 11:45:06 -0500 (Thu, 20 Nov 2025) EllapsedTime: 2.9 seconds RetCode: 0 Status: OK PackageFile: spqnData_1.23.0.tar.gz PackageFileSize: 10.17 MiB