Package: spatialLIBD Version: 1.21.5 Command: /home/biocbuild/bbs-3.22-bioc/R/bin/R CMD INSTALL spatialLIBD StartedAt: 2025-07-17 11:01:58 -0400 (Thu, 17 Jul 2025) EndedAt: 2025-07-17 11:02:44 -0400 (Thu, 17 Jul 2025) EllapsedTime: 45.8 seconds RetCode: 0 Status: OK