Package: spatialLIBD Version: 1.21.5 Command: /home/biocbuild/bbs-3.22-bioc/R/bin/R CMD build --keep-empty-dirs --no-resave-data spatialLIBD StartedAt: 2025-07-17 11:43:01 -0400 (Thu, 17 Jul 2025) EndedAt: 2025-07-17 11:48:20 -0400 (Thu, 17 Jul 2025) EllapsedTime: 319.1 seconds RetCode: 0 Status: OK PackageFile: spatialLIBD_1.21.5.tar.gz PackageFileSize: 19.58 MiB