Package: spatialLIBD Version: 1.23.0 Command: /home/biocbuild/bbs-3.23-bioc/R/bin/R CMD build --keep-empty-dirs --no-resave-data spatialLIBD StartedAt: 2025-11-06 11:42:58 -0500 (Thu, 06 Nov 2025) EndedAt: 2025-11-06 11:48:04 -0500 (Thu, 06 Nov 2025) EllapsedTime: 305.9 seconds RetCode: 0 Status: OK PackageFile: spatialLIBD_1.23.0.tar.gz PackageFileSize: 19.89 MiB