Package: spatialDmelxsim Version: 1.15.0 Command: /home/biocbuild/bbs-3.22-bioc/R/bin/R CMD INSTALL spatialDmelxsim StartedAt: 2025-07-17 11:01:05 -0400 (Thu, 17 Jul 2025) EndedAt: 2025-07-17 11:01:30 -0400 (Thu, 17 Jul 2025) EllapsedTime: 25.4 seconds RetCode: 0 Status: OK