Package: shinyMethylData Version: 1.31.0 Command: /home/biocbuild/bbs-3.23-bioc/R/bin/R CMD INSTALL shinyMethylData StartedAt: 2025-11-06 10:55:52 -0500 (Thu, 06 Nov 2025) EndedAt: 2025-11-06 10:56:07 -0500 (Thu, 06 Nov 2025) EllapsedTime: 14.9 seconds RetCode: 0 Status: OK