Package: shinyMethylData Version: 1.31.0 Command: /home/biocbuild/bbs-3.23-bioc/R/bin/R CMD build --keep-empty-dirs --no-resave-data shinyMethylData StartedAt: 2025-11-06 11:42:06 -0500 (Thu, 06 Nov 2025) EndedAt: 2025-11-06 11:42:09 -0500 (Thu, 06 Nov 2025) EllapsedTime: 3.1 seconds RetCode: 0 Status: OK PackageFile: shinyMethylData_1.31.0.tar.gz PackageFileSize: 35.58 MiB