Package: scpdata Version: 1.19.0 Command: /home/biocbuild/bbs-3.23-bioc/R/bin/R CMD INSTALL scpdata StartedAt: 2025-11-06 10:59:31 -0500 (Thu, 06 Nov 2025) EndedAt: 2025-11-06 11:00:03 -0500 (Thu, 06 Nov 2025) EllapsedTime: 32.5 seconds RetCode: 0 Status: OK