Package: scanMiRData Version: 1.15.0 Command: /home/biocbuild/bbs-3.22-bioc/R/bin/R CMD INSTALL scanMiRData StartedAt: 2025-07-17 10:57:58 -0400 (Thu, 17 Jul 2025) EndedAt: 2025-07-17 10:58:12 -0400 (Thu, 17 Jul 2025) EllapsedTime: 14.7 seconds RetCode: 0 Status: OK