Package: scRNAseq Version: 2.23.0 Command: /home/biocbuild/bbs-3.22-bioc/R/bin/R CMD INSTALL scRNAseq StartedAt: 2025-07-17 11:00:45 -0400 (Thu, 17 Jul 2025) EndedAt: 2025-07-17 11:01:28 -0400 (Thu, 17 Jul 2025) EllapsedTime: 42.9 seconds RetCode: 0 Status: OK