Package: ptairData Version: 1.17.0 Command: /home/biocbuild/bbs-3.22-bioc/R/bin/R CMD build --keep-empty-dirs --no-resave-data ptairData StartedAt: 2025-10-07 11:35:21 -0400 (Tue, 07 Oct 2025) EndedAt: 2025-10-07 11:35:32 -0400 (Tue, 07 Oct 2025) EllapsedTime: 10.4 seconds RetCode: 0 Status: OK PackageFile: ptairData_1.17.0.tar.gz PackageFileSize: 53.1 MiB