Package: prostateCancerVarambally Version: 1.39.0 Maintainer: Mark Dunning MaintainerEmail: mark.dunning at cruk.cam.ac.uk git_url: https://git.bioconductor.org/packages/prostateCancerVarambally git_branch: devel git_last_commit: 4a226a3 git_last_commit_date: 2025-10-29 09:58:03 -0400 (Wed, 29 Oct 2025)