Package: prostateCancerGrasso Version: 1.39.0 Maintainer: Mark Dunning MaintainerEmail: mark.dunning at cruk.cam.ac.uk git_url: https://git.bioconductor.org/packages/prostateCancerGrasso git_branch: devel git_last_commit: 1455e0a git_last_commit_date: 2025-10-29 09:58:01 -0500 (Wed, 29 Oct 2025)