Package: preciseTADhub Version: 1.17.0 Command: /home/biocbuild/bbs-3.22-bioc/R/bin/R CMD INSTALL preciseTADhub StartedAt: 2025-07-17 10:57:02 -0400 (Thu, 17 Jul 2025) EndedAt: 2025-07-17 10:57:15 -0400 (Thu, 17 Jul 2025) EllapsedTime: 12.9 seconds RetCode: 0 Status: OK