Package: prebsdata Version: 1.47.0 Command: /home/biocbuild/bbs-3.23-bioc/R/bin/R CMD build --keep-empty-dirs --no-resave-data prebsdata StartedAt: 2025-11-11 11:36:09 -0500 (Tue, 11 Nov 2025) EndedAt: 2025-11-11 11:36:34 -0500 (Tue, 11 Nov 2025) EllapsedTime: 24.2 seconds RetCode: 0 Status: OK PackageFile: prebsdata_1.47.0.tar.gz PackageFileSize: 23.54 MiB