Package: pasillaBamSubset Version: 0.49.0 Maintainer: Hervé Pagès MaintainerEmail: hpages.on.github at gmail.com git_url: https://git.bioconductor.org/packages/pasillaBamSubset git_branch: devel git_last_commit: a8954ab git_last_commit_date: 2025-10-29 09:33:05 -0400 (Wed, 29 Oct 2025)