Package: pasilla Version: 1.37.0 Command: /home/biocbuild/bbs-3.22-bioc/R/bin/R CMD build --keep-empty-dirs --no-resave-data pasilla StartedAt: 2025-07-22 11:35:14 -0400 (Tue, 22 Jul 2025) EndedAt: 2025-07-22 11:36:11 -0400 (Tue, 22 Jul 2025) EllapsedTime: 56.6 seconds RetCode: 0 Status: OK PackageFile: pasilla_1.37.0.tar.gz PackageFileSize: 3.151 MiB