Package: oct4 Version: 1.25.0 Command: /home/biocbuild/bbs-3.22-bioc/R/bin/R CMD INSTALL oct4 StartedAt: 2025-07-17 10:55:25 -0400 (Thu, 17 Jul 2025) EndedAt: 2025-07-17 10:55:27 -0400 (Thu, 17 Jul 2025) EllapsedTime: 1.9 seconds RetCode: 0 Status: OK