Package: nmrdata Version: 0.99.2 Command: /home/biocbuild/bbs-3.22-bioc/R/bin/R CMD INSTALL nmrdata StartedAt: 2025-10-16 10:56:48 -0400 (Thu, 16 Oct 2025) EndedAt: 2025-10-16 10:56:50 -0400 (Thu, 16 Oct 2025) EllapsedTime: 1.4 seconds RetCode: 0 Status: OK