Package: nanotubes Version: 1.27.0 Command: /home/biocbuild/bbs-3.23-bioc/R/bin/R CMD build --keep-empty-dirs --no-resave-data nanotubes StartedAt: 2025-11-18 11:33:44 -0500 (Tue, 18 Nov 2025) EndedAt: 2025-11-18 11:34:06 -0500 (Tue, 18 Nov 2025) EllapsedTime: 22.0 seconds RetCode: 0 Status: OK PackageFile: nanotubes_1.27.0.tar.gz PackageFileSize: 117.6 MiB