Package: mvoutData Version: 1.47.0 Command: /home/biocbuild/bbs-3.23-bioc/R/bin/R CMD INSTALL mvoutData StartedAt: 2025-11-27 11:03:10 -0500 (Thu, 27 Nov 2025) EndedAt: 2025-11-27 11:03:40 -0500 (Thu, 27 Nov 2025) EllapsedTime: 30.1 seconds RetCode: 0 Status: OK