Package: msigdb Version: 1.19.0 Maintainer: Dharmesh D. Bhuva MaintainerEmail: bhuva.d at wehi.edu.au git_url: https://git.bioconductor.org/packages/msigdb git_branch: devel git_last_commit: 5e3257e git_last_commit_date: 2025-10-29 10:03:52 -0400 (Wed, 29 Oct 2025)