Package: msd16s Version: 1.31.0 Command: /home/biocbuild/bbs-3.23-bioc/R/bin/R CMD build --keep-empty-dirs --no-resave-data msd16s StartedAt: 2025-11-06 11:31:20 -0500 (Thu, 06 Nov 2025) EndedAt: 2025-11-06 11:31:33 -0500 (Thu, 06 Nov 2025) EllapsedTime: 13.4 seconds RetCode: 0 Status: OK PackageFile: msd16s_1.31.0.tar.gz PackageFileSize: 1.808 MiB